BEGIN:VCALENDAR
VERSION:2.0
PRODID:-//We Prosper Together - ECPv6.15.20//NONSGML v1.0//EN
CALSCALE:GREGORIAN
METHOD:PUBLISH
X-ORIGINAL-URL:https://www.weprospertogether.org
X-WR-CALDESC:Events for We Prosper Together
REFRESH-INTERVAL;VALUE=DURATION:PT1H
X-Robots-Tag:noindex
X-PUBLISHED-TTL:PT1H
BEGIN:VTIMEZONE
TZID:America/Los_Angeles
BEGIN:DAYLIGHT
TZOFFSETFROM:-0800
TZOFFSETTO:-0700
TZNAME:PDT
DTSTART:20230312T100000
END:DAYLIGHT
BEGIN:STANDARD
TZOFFSETFROM:-0700
TZOFFSETTO:-0800
TZNAME:PST
DTSTART:20231105T090000
END:STANDARD
BEGIN:DAYLIGHT
TZOFFSETFROM:-0800
TZOFFSETTO:-0700
TZNAME:PDT
DTSTART:20240310T100000
END:DAYLIGHT
BEGIN:STANDARD
TZOFFSETFROM:-0700
TZOFFSETTO:-0800
TZNAME:PST
DTSTART:20241103T090000
END:STANDARD
BEGIN:DAYLIGHT
TZOFFSETFROM:-0800
TZOFFSETTO:-0700
TZNAME:PDT
DTSTART:20250309T100000
END:DAYLIGHT
BEGIN:STANDARD
TZOFFSETFROM:-0700
TZOFFSETTO:-0800
TZNAME:PST
DTSTART:20251102T090000
END:STANDARD
END:VTIMEZONE
BEGIN:VTIMEZONE
TZID:UTC
BEGIN:STANDARD
TZOFFSETFROM:+0000
TZOFFSETTO:+0000
TZNAME:UTC
DTSTART:20230101T000000
END:STANDARD
END:VTIMEZONE
BEGIN:VEVENT
DTSTART;TZID=America/Los_Angeles:20240620T140000
DTEND;TZID=America/Los_Angeles:20240620T160000
DTSTAMP:20260421T181000
CREATED:20240530T191504Z
LAST-MODIFIED:20240718T231505Z
UID:1849-1718892000-1718899200@www.weprospertogether.org
SUMMARY:Leadership Council Meeting | June 20\, 2024
DESCRIPTION:Our Capital Region Leadership Council held its monthly meeting on Thursday\, June 20\, 2024. Council members made key decisions to continue to move forward We Prosper Together’s development of the regional plan. \nYou may view the meeting’s slides and recording below. \n  \n  \n\n      \n    \n  \n    \n      \n                  Event Materials\n                      \n    \n  \n  \n\n  \n                                        \n      \n            \n\n    \n          \n                  \n                          \n                \n\n\n\n\n\n\n\n\n\n\n\n\n              \n                      \n              \n              \n        Click the button below to view the recording!\n        \n      \n                      View the Recording
URL:https://www.weprospertogether.org/event/leadership-council-meeting-june-20-2024/
LOCATION:Zoom
CATEGORIES:Leadership Council
ATTACH;FMTTYPE=image/jpeg:https://www.weprospertogether.org/wp-content/uploads/2024/01/AdobeStock_506761683-scaled.jpeg
ORGANIZER;CN="We Prosper Together":MAILTO:info@weprospertogether.org
END:VEVENT
BEGIN:VEVENT
DTSTART;TZID=UTC:20240625T140000
DTEND;TZID=UTC:20240625T160000
DTSTAMP:20260421T181000
CREATED:20240529T155945Z
LAST-MODIFIED:20240702T220009Z
UID:1846-1719324000-1719331200@www.weprospertogether.org
SUMMARY:Summer Collaborative Gathering 2024
DESCRIPTION:We Prosper Together held a quarterly Collaborative gathering on June 25\, 2024 from 2pm to 4pm to hear findings from community engagement conducted in each of the Capital region’s five subregions. We also provided additional information on the Catalyst Fund and other important regional and state updates. \nThis meeting was open to the public\, regardless of Collaborative membership status. Find the recording and slides below. \n  \n  \n\n      \n    \n  \n    \n      \n                  Event Materials\n                      \n    \n  \n  \n\n  \n                                        \n      \n            \n\n    \n          \n                  \n                          \n                \n\n\n\n\n\n\n\n\n\n\n\n\n              \n                      \n              \n              \n        Click the button below to view the recording!\n        \n      \n                      View the Recording
URL:https://www.weprospertogether.org/event/summer-collaborative-gathering-2024/
LOCATION:Zoom
CATEGORIES:Quarterly Collaborative Meetings
ATTACH;FMTTYPE=image/png:https://www.weprospertogether.org/wp-content/uploads/2024/05/WPT-Summer-Collaborative-Gathering.png
ORGANIZER;CN="We Prosper Together":MAILTO:info@weprospertogether.org
END:VEVENT
BEGIN:VEVENT
DTSTART;TZID=UTC:20240627T180000
DTEND;TZID=UTC:20240627T200000
DTSTAMP:20260421T181000
CREATED:20240614T173140Z
LAST-MODIFIED:20240614T173441Z
UID:1857-1719511200-1719518400@www.weprospertogether.org
SUMMARY:Sacramento & Yolo Open House: Strategies for an Equitable Economy
DESCRIPTION:Join us for an open-house to learn about emerging projects related to economic and workforce development in Sacramento and Yolo Counties\, and share what YOU think would make them successful. \nRegistered participants will receive a $50 virtual gift card for their attendance and input. RSVP HERE. \n  \n  \n\n      \n    \n  \n    \n      \n                  Event Materials\n                      \n    \n  \n  \n\n  \n                                        \n      \n            \n\n    \n          \n                  \n                          \n                \n\n\n\n\n\n\n\n\n\n\n\n\n              \n                      \n              \n              \n        Click the button below to view the recording!\n        \n      \n                      View the Recording
URL:https://www.weprospertogether.org/event/sac-yolo-open-house-june-2024/
LOCATION:CLTRE Club\, 1409 16th Street\, Sacramento\, CA\, 95814\, United States
CATEGORIES:Community Engagement
ATTACH;FMTTYPE=image/jpeg:https://www.weprospertogether.org/wp-content/uploads/2024/01/AdobeStock_15790167-scaled.jpeg
END:VEVENT
END:VCALENDAR