BEGIN:VCALENDAR
VERSION:2.0
PRODID:-//We Prosper Together - ECPv6.15.20//NONSGML v1.0//EN
CALSCALE:GREGORIAN
METHOD:PUBLISH
X-ORIGINAL-URL:https://www.weprospertogether.org
X-WR-CALDESC:Events for We Prosper Together
REFRESH-INTERVAL;VALUE=DURATION:PT1H
X-Robots-Tag:noindex
X-PUBLISHED-TTL:PT1H
BEGIN:VTIMEZONE
TZID:America/Los_Angeles
BEGIN:DAYLIGHT
TZOFFSETFROM:-0800
TZOFFSETTO:-0700
TZNAME:PDT
DTSTART:20240310T100000
END:DAYLIGHT
BEGIN:STANDARD
TZOFFSETFROM:-0700
TZOFFSETTO:-0800
TZNAME:PST
DTSTART:20241103T090000
END:STANDARD
BEGIN:DAYLIGHT
TZOFFSETFROM:-0800
TZOFFSETTO:-0700
TZNAME:PDT
DTSTART:20250309T100000
END:DAYLIGHT
BEGIN:STANDARD
TZOFFSETFROM:-0700
TZOFFSETTO:-0800
TZNAME:PST
DTSTART:20251102T090000
END:STANDARD
BEGIN:DAYLIGHT
TZOFFSETFROM:-0800
TZOFFSETTO:-0700
TZNAME:PDT
DTSTART:20260308T100000
END:DAYLIGHT
BEGIN:STANDARD
TZOFFSETFROM:-0700
TZOFFSETTO:-0800
TZNAME:PST
DTSTART:20261101T090000
END:STANDARD
END:VTIMEZONE
BEGIN:VEVENT
DTSTART;TZID=America/Los_Angeles:20250428T080000
DTEND;TZID=America/Los_Angeles:20250602T170000
DTSTAMP:20260423T222447
CREATED:20250612T214049Z
LAST-MODIFIED:20250612T221022Z
UID:2473-1745827200-1748883600@www.weprospertogether.org
SUMMARY:Competitive Grant Proposal Writing Workshop Series
DESCRIPTION:Valley Vision sponsored a free grant writing workshop series designed to strengthen the capacity of community-based organizations across the Capital Region responding to the Catalyst RFP. The series kicked off with two virtual sessions on April 28 and 29\, followed by two in-person half-day workshops that built upon these foundations which were held in May 29 and June 2.\nValley Vision engaged Sarah Hall\, an experienced third-party consultant\, to lead a series of grant proposal writing workshops designed to support community-based organizations in the Capital Region applying to the We Prosper Together Catalyst RFP.\nAbout Sarah Hall: Sarah is a seasoned business leader experienced in setting clear vision\, building high performing teams\, and driving results. She has worked in nonprofit fund development as a grant proposal writer and in sales\, strategy\, business operations\, and product roles including Director and Vice President leadership roles\, most recently at Intuit. Sarah has English and Communication degrees from Stanford University. \n\nSarah has built strong skill sets in writing and clear\, data-backed storytelling and also coaches teams and individuals in these areas. Whether writing a grant proposal\, creating a business case\, or crafting a strategic vision document\, great leaders communicate the right information in a way that motivates action\, changes minds\, and drives results. Strong storytelling accelerates impact; poor storytelling hinders it. Sarah is passionate about equipping leaders with good communication and storytelling tools and is excited to empower community-based organizations through these workshops. \n  \n  \n\n      \n    \n  \n    \n      \n                  Event Materials\n                      \n    \n  \n  \n\n  \n                                        \n      \n            \n\n    \n          \n                  \n                          \n                \n\n\n\n\n\n\n\n\n\n\n\n\n              \n                      \n              \n              \n        Click the button below to view the recording!\n        \n      \n                      View the Recording
URL:https://www.weprospertogether.org/event/competitive-grant-proposal-writing-workshop/
END:VEVENT
BEGIN:VEVENT
DTSTART;TZID=America/Los_Angeles:20250602T100000
DTEND;TZID=America/Los_Angeles:20250602T150000
DTSTAMP:20260423T222447
CREATED:20250430T211828Z
LAST-MODIFIED:20250513T175108Z
UID:2438-1748858400-1748876400@www.weprospertogether.org
SUMMARY:In-Person Grant Writing Workshop | June 2\, 2025
DESCRIPTION:Valley Vision is pleased to offer grant proposal writing workshops to support organizations applying to the We Prosper Together Catalyst RFP. We have engaged Sarah Hall\, an experienced third-party consultant\, to lead these sessions. \nThis half-day event at Granzella’s Inn will build on the virtual sessions held in April. Attendance at a virtual session\, or viewing the recording\, is required prior to participating in an in-person workshop. Attendees should come with strong drafts of their proposals already underway. \nSpace is limited. Please fill out the form linked below to register. Those with confirmed spots will receive a calendar invite with venue details. If capacity is exceeded\, registrants will be placed on a waitlist and notified if a spot becomes available.\n  \n  \n\n      \n    \n  \n    \n      \n                  Event Materials\n                      \n    \n  \n  \n\n  \n                                        \n      \n            \n\n    \n          \n                  \n                          \n                \n\n\n\n\n\n\n\n\n\n\n\n\n              \n                      \n              \n              \n        Click the button below to view the recording!\n        \n      \n                      View the Recording
URL:https://www.weprospertogether.org/event/grant-writing-workshop-june-2/
LOCATION:Granzella’s Inn\, 391 6th St\, Williams\, 95987\, United States
END:VEVENT
BEGIN:VEVENT
DTSTART;TZID=America/Los_Angeles:20250630T110000
DTEND;TZID=America/Los_Angeles:20250630T123000
DTSTAMP:20260423T222447
CREATED:20250613T194255Z
LAST-MODIFIED:20250630T210008Z
UID:2482-1751281200-1751286600@www.weprospertogether.org
SUMMARY:We Prosper Together June Collaborative Meeting
DESCRIPTION:We Prosper Together hosted its Collaborative meeting on Monday\, June 30\, from 11:00 AM to 12:30 PM. This webinar provided updates on the latest We Prosper Together activities and the Catalyst program. \n  \n  \n\n      \n    \n  \n    \n      \n                  Event Materials\n                      \n    \n  \n  \n\n  \n                                        \n      \n            \n\n    \n          \n                  \n                          \n                \n\n\n\n\n\n\n\n\n\n\n\n\n              \n                      \n              \n              \n        Click the button below to view the recording!\n        \n      \n                      View the Recording
URL:https://www.weprospertogether.org/event/we-prosper-together-june-collaborative-meeting/
END:VEVENT
END:VCALENDAR