BEGIN:VCALENDAR
VERSION:2.0
PRODID:-//We Prosper Together - ECPv6.15.20//NONSGML v1.0//EN
CALSCALE:GREGORIAN
METHOD:PUBLISH
X-WR-CALNAME:We Prosper Together
X-ORIGINAL-URL:https://www.weprospertogether.org
X-WR-CALDESC:Events for We Prosper Together
REFRESH-INTERVAL;VALUE=DURATION:PT1H
X-Robots-Tag:noindex
X-PUBLISHED-TTL:PT1H
BEGIN:VTIMEZONE
TZID:America/Los_Angeles
BEGIN:DAYLIGHT
TZOFFSETFROM:-0800
TZOFFSETTO:-0700
TZNAME:PDT
DTSTART:20230312T100000
END:DAYLIGHT
BEGIN:STANDARD
TZOFFSETFROM:-0700
TZOFFSETTO:-0800
TZNAME:PST
DTSTART:20231105T090000
END:STANDARD
BEGIN:DAYLIGHT
TZOFFSETFROM:-0800
TZOFFSETTO:-0700
TZNAME:PDT
DTSTART:20240310T100000
END:DAYLIGHT
BEGIN:STANDARD
TZOFFSETFROM:-0700
TZOFFSETTO:-0800
TZNAME:PST
DTSTART:20241103T090000
END:STANDARD
BEGIN:DAYLIGHT
TZOFFSETFROM:-0800
TZOFFSETTO:-0700
TZNAME:PDT
DTSTART:20250309T100000
END:DAYLIGHT
BEGIN:STANDARD
TZOFFSETFROM:-0700
TZOFFSETTO:-0800
TZNAME:PST
DTSTART:20251102T090000
END:STANDARD
END:VTIMEZONE
BEGIN:VEVENT
DTSTART;VALUE=DATE:20240516
DTEND;VALUE=DATE:20240517
DTSTAMP:20260423T182643
CREATED:20240227T014654Z
LAST-MODIFIED:20240513T174607Z
UID:1712-1715817600-1715903999@www.weprospertogether.org
SUMMARY:Leadership Council Meeting | May 16\, 2024
DESCRIPTION:Our Capital Region Leadership Council will hold its monthly meeting on Thursday\, May 16\, 2024. A public agenda has been posted in accordance with our core values prior to the meeting. \nMembers of the public are welcome to attend. Please RSVP your attendance by emailing info@weprospertogether.org \n  \n  \n\n      \n    \n  \n    \n      \n                  Event Materials\n                      \n    \n  \n  \n\n  \n                                        \n      \n            \n\n    \n          \n                  \n                          \n                \n\n\n\n\n\n\n\n\n\n\n\n\n              \n                      \n              \n              \n        Click the button below to view the recording!\n        \n      \n                      View the Recording
URL:https://www.weprospertogether.org/event/leadership-council-meeting-may-2024/
LOCATION:In-Person: To Be Determined
CATEGORIES:Leadership Council
ATTACH;FMTTYPE=image/jpeg:https://www.weprospertogether.org/wp-content/uploads/2024/01/AdobeStock_506761683-scaled.jpeg
ORGANIZER;CN="We Prosper Together":MAILTO:info@weprospertogether.org
END:VEVENT
END:VCALENDAR