BEGIN:VCALENDAR
VERSION:2.0
PRODID:-//We Prosper Together - ECPv6.15.20//NONSGML v1.0//EN
CALSCALE:GREGORIAN
METHOD:PUBLISH
X-WR-CALNAME:We Prosper Together
X-ORIGINAL-URL:https://www.weprospertogether.org
X-WR-CALDESC:Events for We Prosper Together
REFRESH-INTERVAL;VALUE=DURATION:PT1H
X-Robots-Tag:noindex
X-PUBLISHED-TTL:PT1H
BEGIN:VTIMEZONE
TZID:UTC
BEGIN:STANDARD
TZOFFSETFROM:+0000
TZOFFSETTO:+0000
TZNAME:UTC
DTSTART:20230101T000000
END:STANDARD
END:VTIMEZONE
BEGIN:VTIMEZONE
TZID:America/Los_Angeles
BEGIN:DAYLIGHT
TZOFFSETFROM:-0800
TZOFFSETTO:-0700
TZNAME:PDT
DTSTART:20230312T100000
END:DAYLIGHT
BEGIN:STANDARD
TZOFFSETFROM:-0700
TZOFFSETTO:-0800
TZNAME:PST
DTSTART:20231105T090000
END:STANDARD
BEGIN:DAYLIGHT
TZOFFSETFROM:-0800
TZOFFSETTO:-0700
TZNAME:PDT
DTSTART:20240310T100000
END:DAYLIGHT
BEGIN:STANDARD
TZOFFSETFROM:-0700
TZOFFSETTO:-0800
TZNAME:PST
DTSTART:20241103T090000
END:STANDARD
BEGIN:DAYLIGHT
TZOFFSETFROM:-0800
TZOFFSETTO:-0700
TZNAME:PDT
DTSTART:20250309T100000
END:DAYLIGHT
BEGIN:STANDARD
TZOFFSETFROM:-0700
TZOFFSETTO:-0800
TZNAME:PST
DTSTART:20251102T090000
END:STANDARD
END:VTIMEZONE
BEGIN:VEVENT
DTSTART;TZID=UTC:20240501T113000
DTEND;TZID=UTC:20240501T133000
DTSTAMP:20260423T093431
CREATED:20240424T205212Z
LAST-MODIFIED:20240424T205542Z
UID:1798-1714563000-1714570200@www.weprospertogether.org
SUMMARY:Yuba-Sutter Subregional Committee | May 2024
DESCRIPTION:The Yuba-Sutter Subregional Committee will meet for its fifth meeting on Wednesday\, May 1\, 2024. The committee will be held at Hard Rock Hotel and Casino in the “Wé Room” ballroom. This will be the last roundtable conversation in this series on how We Prosper Together can support the needs of workers and employers in Yuba-Sutter. \nCommunity members will receive a stipend for their attendance and free lunch will be provided. \n  \n  \n\n      \n    \n  \n    \n      \n                  Event Materials\n                      \n    \n  \n  \n\n  \n                                        \n      \n            \n\n    \n          \n                  \n                          \n                \n\n\n\n\n\n\n\n\n\n\n\n\n              \n                      \n              \n              \n        Click the button below to view the recording!\n        \n      \n                      View the Recording
URL:https://www.weprospertogether.org/event/yuba-sutter-subregional-committee-may-2024/
LOCATION:Hard Rock Hotel and Casino\, 3317 Forty Mile Rd\, Wheatland\, CA\, United States
CATEGORIES:Committee Meetings
ATTACH;FMTTYPE=image/jpeg:https://www.weprospertogether.org/wp-content/uploads/2023/12/photo-children-scaled-1.jpeg
END:VEVENT
BEGIN:VEVENT
DTSTART;TZID=UTC:20240509T170000
DTEND;TZID=UTC:20240509T170000
DTSTAMP:20260423T093431
CREATED:20240425T213236Z
LAST-MODIFIED:20240425T213804Z
UID:1806-1715274000-1715274000@www.weprospertogether.org
SUMMARY:Building an Economy That Works for Everyone
DESCRIPTION:In a truly great economy\, everyone — whether it’s individuals\, families\, businesses or entire industries — benefits from its growth. How can we build an economy that works for all in the Capital Region?\nFor their next “Suds and Solutions” event\, Solving Sacramento is hosting a discussion about We Prosper Together. It’s a new initiative of 150+ organizations in eight counties surrounding California’s capital that wants to take a more inclusive approach to economic development by creating livable-wage jobs and encouraging diverse investments into the regional economy. \nOur panelists will dive into the state of the Capital Region’s economy\, including how it can take advantage of its assets and take action to address challenges and disparities. They’ll be discussing key points and highlights of two new research reports: We Prosper Together’s Capital Region Economic Assessment\, and Valley Vision’s Inclusive Economy Poll of local residents’ experiences and perspectives related to economic opportunity\, access and awareness. \nJoin us on Thursday\, May 9\, from 5 pm to 7pm at Track 7 Brewing in Curtis Park. There’s no charge to attend\, plus we’re giving away $100 worth of free drinks on a first-come basis\, so be sure to arrive early! \n  \nSPEAKERS\n\nDawnté Early\, president and CEO of United Way Capital Region\nPat Fong Kushida\, president and CEO of the Sacramento Asian Pacific Chamber of Commerce\nEvan Schmidt\, CEO of Valley Vision\nGloria Stearns\, economic development director for Placer County\n\nMODERATOR\n\nEmily Hamann\, staff writer for the Sacramento Business Journal\n\n  \n  \n  \n\n      \n    \n  \n    \n      \n                  Event Materials\n                      \n    \n  \n  \n\n  \n                                        \n      \n            \n\n    \n          \n                  \n                          \n                \n\n\n\n\n\n\n\n\n\n\n\n\n              \n                      \n              \n              \n        Click the button below to view the recording!\n        \n      \n                      View the Recording\n            \n  \n\n      \n      \n\n\n 
URL:https://www.weprospertogether.org/event/building-an-economy-that-works-for-everyone/
LOCATION:Track 7 Brewing Curtis Park\, 3747 West Pacific Avenue F\, Sacramento\, CA\, 95820\, United States
CATEGORIES:Conferences
ATTACH;FMTTYPE=image/png:https://www.weprospertogether.org/wp-content/uploads/2024/04/Building-an-Economy-That-Works-for-Everyone-Header.png
END:VEVENT
BEGIN:VEVENT
DTSTART;VALUE=DATE:20240516
DTEND;VALUE=DATE:20240517
DTSTAMP:20260423T093431
CREATED:20240227T014654Z
LAST-MODIFIED:20240513T174607Z
UID:1712-1715817600-1715903999@www.weprospertogether.org
SUMMARY:Leadership Council Meeting | May 16\, 2024
DESCRIPTION:Our Capital Region Leadership Council will hold its monthly meeting on Thursday\, May 16\, 2024. A public agenda has been posted in accordance with our core values prior to the meeting. \nMembers of the public are welcome to attend. Please RSVP your attendance by emailing info@weprospertogether.org \n  \n  \n\n      \n    \n  \n    \n      \n                  Event Materials\n                      \n    \n  \n  \n\n  \n                                        \n      \n            \n\n    \n          \n                  \n                          \n                \n\n\n\n\n\n\n\n\n\n\n\n\n              \n                      \n              \n              \n        Click the button below to view the recording!\n        \n      \n                      View the Recording
URL:https://www.weprospertogether.org/event/leadership-council-meeting-may-2024/
LOCATION:In-Person: To Be Determined
CATEGORIES:Leadership Council
ATTACH;FMTTYPE=image/jpeg:https://www.weprospertogether.org/wp-content/uploads/2024/01/AdobeStock_506761683-scaled.jpeg
ORGANIZER;CN="We Prosper Together":MAILTO:info@weprospertogether.org
END:VEVENT
END:VCALENDAR