BEGIN:VCALENDAR
VERSION:2.0
PRODID:-//We Prosper Together - ECPv6.15.20//NONSGML v1.0//EN
CALSCALE:GREGORIAN
METHOD:PUBLISH
X-ORIGINAL-URL:https://www.weprospertogether.org
X-WR-CALDESC:Events for We Prosper Together
REFRESH-INTERVAL;VALUE=DURATION:PT1H
X-Robots-Tag:noindex
X-PUBLISHED-TTL:PT1H
BEGIN:VTIMEZONE
TZID:UTC
BEGIN:STANDARD
TZOFFSETFROM:+0000
TZOFFSETTO:+0000
TZNAME:UTC
DTSTART:20230101T000000
END:STANDARD
END:VTIMEZONE
BEGIN:VTIMEZONE
TZID:America/Los_Angeles
BEGIN:DAYLIGHT
TZOFFSETFROM:-0800
TZOFFSETTO:-0700
TZNAME:PDT
DTSTART:20230312T100000
END:DAYLIGHT
BEGIN:STANDARD
TZOFFSETFROM:-0700
TZOFFSETTO:-0800
TZNAME:PST
DTSTART:20231105T090000
END:STANDARD
BEGIN:DAYLIGHT
TZOFFSETFROM:-0800
TZOFFSETTO:-0700
TZNAME:PDT
DTSTART:20240310T100000
END:DAYLIGHT
BEGIN:STANDARD
TZOFFSETFROM:-0700
TZOFFSETTO:-0800
TZNAME:PST
DTSTART:20241103T090000
END:STANDARD
BEGIN:DAYLIGHT
TZOFFSETFROM:-0800
TZOFFSETTO:-0700
TZNAME:PDT
DTSTART:20250309T100000
END:DAYLIGHT
BEGIN:STANDARD
TZOFFSETFROM:-0700
TZOFFSETTO:-0800
TZNAME:PST
DTSTART:20251102T090000
END:STANDARD
END:VTIMEZONE
BEGIN:VEVENT
DTSTART;TZID=UTC:20240716T090000
DTEND;TZID=UTC:20240716T160000
DTSTAMP:20260423T151849
CREATED:20240710T191005Z
LAST-MODIFIED:20240725T180536Z
UID:1901-1721120400-1721145600@www.weprospertogether.org
SUMMARY:We Prosper Together Business Convening | July 16\, 2024
DESCRIPTION:Join us on July 16\, 2024\, at Red Hawk Casino for We Prosper Together—a transformative event bringing together business leaders\, entrepreneurs\, and community stakeholders to collectively explore regional industries\, tackle challenges\, and create innovative solutions. \nWhy Attend?\n🔹 Network with Industry Leaders: Connect with influential business figures and experts.\n🔹 Discover Opportunities: Uncover new partnerships and growth strategies.\n🔹 Be Part of the Conversation: Engage in interactive sessions addressing your business sector’s challenges and opportunities. \nEvent Highlights:\n🔹 Insightful Presentations: Gain valuable insights from keynote speakers.\n🔹 World Café Sessions: Participate in facilitated discussions to identify sector priorities and develop actionable solutions.\n🔹 Collaborative Planning: Work together to promote inclusive economic development and community resilience.\n🔹 Cocktail Reception (5:00 PM – 6:00 PM): Network and build lasting connections. \n📅 Date: July 16\, 2024\n🕘 Time: 9:00 am – 4:00 pm\n📍 Location: Red Hawk Casino\, Placerville\, CA\n🔗 Registration link: https://lnkd.in/ggmg6KqU \nDon’t miss this chance to influence the economic landscape of our region. Register today and be part of the process! \n  \n  \n\n      \n    \n  \n    \n      \n                  Event Materials\n                      \n    \n  \n  \n\n  \n                                        \n      \n            \n\n    \n          \n                  \n                          \n                \n\n\n\n\n\n\n\n\n\n\n\n\n              \n                      \n              \n              \n        Click the button below to view the recording!\n        \n      \n                      View the Recording
URL:https://www.weprospertogether.org/event/business-convening-july-2024/
LOCATION:Red Hawk Casino\, 1 Red Hawk Parkway\, Placerville\, CA\, 95667\, United States
CATEGORIES:Community Engagement,Conferences
ATTACH;FMTTYPE=application/pdf:https://www.weprospertogether.org/wp-content/uploads/2024/01/WPT-Powering-Up-the-Capital-Region-1.pdf
END:VEVENT
BEGIN:VEVENT
DTSTART;TZID=America/Los_Angeles:20240718T140000
DTEND;TZID=America/Los_Angeles:20240718T160000
DTSTAMP:20260423T151849
CREATED:20240702T200721Z
LAST-MODIFIED:20240715T174754Z
UID:1894-1721311200-1721318400@www.weprospertogether.org
SUMMARY:Leadership Council Meeting | July 18\, 2024
DESCRIPTION:Our Capital Region Leadership Council will hold its monthly meeting on Thursday\, July 18\, 2024 from 2pm – 4pm. A public agenda will be posted a week before the meeting in accordance with our core values. \nMembers of the public are welcome to attend. Please RSVP your attendance by emailing info@weprospertogether.org \n  \n  \n\n      \n    \n  \n    \n      \n                  Event Materials\n                      \n    \n  \n  \n\n  \n                                        \n      \n            \n\n    \n          \n                  \n                          \n                \n\n\n\n\n\n\n\n\n\n\n\n\n              \n                      \n              \n              \n        Click the button below to view the recording!\n        \n      \n                      View the Recording
URL:https://www.weprospertogether.org/event/leadership-council-meeting-july-18-2024/
LOCATION:Zoom
CATEGORIES:Leadership Council
ATTACH;FMTTYPE=image/jpeg:https://www.weprospertogether.org/wp-content/uploads/2024/01/AdobeStock_506761683-scaled.jpeg
ORGANIZER;CN="We Prosper Together":MAILTO:info@weprospertogether.org
END:VEVENT
END:VCALENDAR