BEGIN:VCALENDAR
VERSION:2.0
PRODID:-//We Prosper Together - ECPv6.15.20//NONSGML v1.0//EN
CALSCALE:GREGORIAN
METHOD:PUBLISH
X-WR-CALNAME:We Prosper Together
X-ORIGINAL-URL:https://www.weprospertogether.org
X-WR-CALDESC:Events for We Prosper Together
REFRESH-INTERVAL;VALUE=DURATION:PT1H
X-Robots-Tag:noindex
X-PUBLISHED-TTL:PT1H
BEGIN:VTIMEZONE
TZID:America/Los_Angeles
BEGIN:DAYLIGHT
TZOFFSETFROM:-0800
TZOFFSETTO:-0700
TZNAME:PDT
DTSTART:20230312T100000
END:DAYLIGHT
BEGIN:STANDARD
TZOFFSETFROM:-0700
TZOFFSETTO:-0800
TZNAME:PST
DTSTART:20231105T090000
END:STANDARD
BEGIN:DAYLIGHT
TZOFFSETFROM:-0800
TZOFFSETTO:-0700
TZNAME:PDT
DTSTART:20240310T100000
END:DAYLIGHT
BEGIN:STANDARD
TZOFFSETFROM:-0700
TZOFFSETTO:-0800
TZNAME:PST
DTSTART:20241103T090000
END:STANDARD
BEGIN:DAYLIGHT
TZOFFSETFROM:-0800
TZOFFSETTO:-0700
TZNAME:PDT
DTSTART:20250309T100000
END:DAYLIGHT
BEGIN:STANDARD
TZOFFSETFROM:-0700
TZOFFSETTO:-0800
TZNAME:PST
DTSTART:20251102T090000
END:STANDARD
END:VTIMEZONE
BEGIN:VEVENT
DTSTART;TZID=America/Los_Angeles:20240828T160000
DTEND;TZID=America/Los_Angeles:20240828T170000
DTSTAMP:20260419T120414
CREATED:20240903T181817Z
LAST-MODIFIED:20240903T222241Z
UID:1948-1724860800-1724864400@www.weprospertogether.org
SUMMARY:Community Outreach and Engagement RFP Proposer's Conference
DESCRIPTION:On August 28\, 2024\, Valley Vision held a Proposer’s Conference to discuss the Community Engagement RFP. Click here to view the recording. Passcode: #RfM=1+7 \n  \n  \n\n      \n    \n  \n    \n      \n                  Event Materials\n                      \n    \n  \n  \n\n  \n                                        \n      \n            \n\n    \n          \n                  \n                          \n                \n\n\n\n\n\n\n\n\n\n\n\n\n              \n                      \n              \n              \n        Click the button below to view the recording!\n        \n      \n                      View the Recording
URL:https://www.weprospertogether.org/event/community-outreach-and-engagement-rfp-proposers-conference/
LOCATION:Zoom
ORGANIZER;CN="We Prosper Together":MAILTO:info@weprospertogether.org
END:VEVENT
END:VCALENDAR