BEGIN:VCALENDAR
VERSION:2.0
PRODID:-//We Prosper Together - ECPv6.15.20//NONSGML v1.0//EN
CALSCALE:GREGORIAN
METHOD:PUBLISH
X-ORIGINAL-URL:https://www.weprospertogether.org
X-WR-CALDESC:Events for We Prosper Together
REFRESH-INTERVAL;VALUE=DURATION:PT1H
X-Robots-Tag:noindex
X-PUBLISHED-TTL:PT1H
BEGIN:VTIMEZONE
TZID:America/Los_Angeles
BEGIN:DAYLIGHT
TZOFFSETFROM:-0800
TZOFFSETTO:-0700
TZNAME:PDT
DTSTART:20230312T100000
END:DAYLIGHT
BEGIN:STANDARD
TZOFFSETFROM:-0700
TZOFFSETTO:-0800
TZNAME:PST
DTSTART:20231105T090000
END:STANDARD
BEGIN:DAYLIGHT
TZOFFSETFROM:-0800
TZOFFSETTO:-0700
TZNAME:PDT
DTSTART:20240310T100000
END:DAYLIGHT
BEGIN:STANDARD
TZOFFSETFROM:-0700
TZOFFSETTO:-0800
TZNAME:PST
DTSTART:20241103T090000
END:STANDARD
BEGIN:DAYLIGHT
TZOFFSETFROM:-0800
TZOFFSETTO:-0700
TZNAME:PDT
DTSTART:20250309T100000
END:DAYLIGHT
BEGIN:STANDARD
TZOFFSETFROM:-0700
TZOFFSETTO:-0800
TZNAME:PST
DTSTART:20251102T090000
END:STANDARD
END:VTIMEZONE
BEGIN:VEVENT
DTSTART;TZID=America/Los_Angeles:20240306T110000
DTEND;TZID=America/Los_Angeles:20240306T123000
DTSTAMP:20260423T231826
CREATED:20240229T171227Z
LAST-MODIFIED:20240229T171227Z
UID:1715-1709722800-1709728200@www.weprospertogether.org
SUMMARY:Sac/Yolo Subregional Committee | March 2024
DESCRIPTION:Join us for our monthly Sac/Yolo Subregional Committee meeting on Wednesday\, March 6\, 2024 from 11:00am – 12:30pm. This meeting will be held virtually on Zoom. \n\nWhat to Expect: \n\nProject Updates: Hear about the progress of ongoing development projects.\nNew Opportunities: Learn about and discuss new initiatives that could benefit our community.\nCollaborative Discussion: Share your ideas and feedback on how we can collectively support the Sac/Yolo subregion’s growth.\n\nWho Should Attend: This meeting is open to all interested parties\, including local business leaders\, community organizers\, and individuals passionate about economic development and job creation in the Sac/Yolo subregion. \nRSVP
URL:https://www.weprospertogether.org/event/sac-yolo-subregional-committee-march-2024/
LOCATION:Zoom
CATEGORIES:Committee Meetings
ATTACH;FMTTYPE=image/jpeg:https://www.weprospertogether.org/wp-content/uploads/2024/01/AdobeStock_152929103-scaled.jpeg
END:VEVENT
BEGIN:VEVENT
DTSTART;TZID=America/Los_Angeles:20240312T160000
DTEND;TZID=America/Los_Angeles:20240312T170000
DTSTAMP:20260423T231826
CREATED:20240226T230218Z
LAST-MODIFIED:20240229T172305Z
UID:1692-1710259200-1710262800@www.weprospertogether.org
SUMMARY:Tahoe Subregional Committee | March 2024
DESCRIPTION:Join us for our monthly Tahoe Subregional Committee meeting Tahoe on Tuesday\, March 12\, 2024 from 4pm – 5pm. This meeting will be held virtually via Zoom. \nDuring this session\, we will delve into the recent releases from the state highlighting preferred sectors of engagement in the capital region. This information is pivotal for our community as we aim to adapt and align our strategies with these parameters for our specialized economy. \nAgenda Overview:\n– California Jobs First Initiative Updates\n– Discussion on Preferred Sectors of Engagement in the Capital Region\n– Adapting and Aligning Our Strategies for the Tahoe/Nevada Subregion\n– Q&A and Open Floor for Stakeholder Input \nJoin the Meeting
URL:https://www.weprospertogether.org/event/tahoe-committee-march-2024/
LOCATION:Zoom
CATEGORIES:Committee Meetings
ATTACH;FMTTYPE=image/jpeg:https://www.weprospertogether.org/wp-content/uploads/2024/01/AdobeStock_399314459-scaled.jpeg
END:VEVENT
BEGIN:VEVENT
DTSTART;TZID=America/Los_Angeles:20240319T083000
DTEND;TZID=America/Los_Angeles:20240319T120000
DTSTAMP:20260423T231826
CREATED:20240229T173238Z
LAST-MODIFIED:20240229T173324Z
UID:1720-1710837000-1710849600@www.weprospertogether.org
SUMMARY:Sac/Yolo Business Convening | March 2024
DESCRIPTION:Join us for a convening of Sacramento and Yolo businesses on Tuesday\, March 19\, 2024 from 8:30am – 12:00pm. This meeting will be held in-person at the Sacramento State Alumni Center\n\nWhat to Expect: \n\nProject Updates: Hear about the progress of ongoing development projects.\nNew Opportunities: Learn about and discuss new initiatives that could benefit our community.\nCollaborative Discussion: Share your ideas and feedback on how we can collectively support the Sac/Yolo subregion’s growth.\n\nRSVP
URL:https://www.weprospertogether.org/event/sac-yolo-business-convening-march-2024/
LOCATION:Sacramento State Alumni Center\, 6000 J Street\, Sacramento\, CA\, 95819\, United States
CATEGORIES:Committee Meetings
ATTACH;FMTTYPE=image/jpeg:https://www.weprospertogether.org/wp-content/uploads/2024/02/WPT-Sac-Yolo-Business-Convening.jpg
END:VEVENT
BEGIN:VEVENT
DTSTART;TZID=America/Los_Angeles:20240321T140000
DTEND;TZID=America/Los_Angeles:20240321T160000
DTSTAMP:20260423T231826
CREATED:20240227T014007Z
LAST-MODIFIED:20240318T223821Z
UID:1708-1711029600-1711036800@www.weprospertogether.org
SUMMARY:Leadership Council Meeting | March 21\, 2024
DESCRIPTION:Our Capital Region Leadership Council will hold its monthly meeting on Thursday\, March 21\, 2024. The public agenda has been posted in accordance with our core values prior to the meeting. \n  \n  \n\n      \n    \n  \n    \n      \n                  Event Materials\n                      \n    \n  \n  \n\n  \n                                        \n      \n            \n\n    \n          \n                  \n                          \n                \n\n\n\n\n\n\n\n\n\n\n\n\n              \n                      \n              \n              \n        Click the button below to view the recording!\n        \n      \n                      View the Recording
URL:https://www.weprospertogether.org/event/leadership-council-meeting-march-2024/
LOCATION:Zoom
CATEGORIES:Leadership Council
ATTACH;FMTTYPE=image/jpeg:https://www.weprospertogether.org/wp-content/uploads/2024/01/AdobeStock_506761683-scaled.jpeg
END:VEVENT
END:VCALENDAR