BEGIN:VCALENDAR
VERSION:2.0
PRODID:-//We Prosper Together - ECPv6.15.20//NONSGML v1.0//EN
CALSCALE:GREGORIAN
METHOD:PUBLISH
X-WR-CALNAME:We Prosper Together
X-ORIGINAL-URL:https://www.weprospertogether.org
X-WR-CALDESC:Events for We Prosper Together
REFRESH-INTERVAL;VALUE=DURATION:PT1H
X-Robots-Tag:noindex
X-PUBLISHED-TTL:PT1H
BEGIN:VTIMEZONE
TZID:America/Los_Angeles
BEGIN:DAYLIGHT
TZOFFSETFROM:-0800
TZOFFSETTO:-0700
TZNAME:PDT
DTSTART:20230312T100000
END:DAYLIGHT
BEGIN:STANDARD
TZOFFSETFROM:-0700
TZOFFSETTO:-0800
TZNAME:PST
DTSTART:20231105T090000
END:STANDARD
BEGIN:DAYLIGHT
TZOFFSETFROM:-0800
TZOFFSETTO:-0700
TZNAME:PDT
DTSTART:20240310T100000
END:DAYLIGHT
BEGIN:STANDARD
TZOFFSETFROM:-0700
TZOFFSETTO:-0800
TZNAME:PST
DTSTART:20241103T090000
END:STANDARD
BEGIN:DAYLIGHT
TZOFFSETFROM:-0800
TZOFFSETTO:-0700
TZNAME:PDT
DTSTART:20250309T100000
END:DAYLIGHT
BEGIN:STANDARD
TZOFFSETFROM:-0700
TZOFFSETTO:-0800
TZNAME:PST
DTSTART:20251102T090000
END:STANDARD
END:VTIMEZONE
BEGIN:VEVENT
DTSTART;TZID=America/Los_Angeles:20240425T140000
DTEND;TZID=America/Los_Angeles:20240425T160000
DTSTAMP:20260423T200134
CREATED:20240227T014242Z
LAST-MODIFIED:20240419T175122Z
UID:1711-1714053600-1714060800@www.weprospertogether.org
SUMMARY:Leadership Council Meeting | April 25\, 2024
DESCRIPTION:Our Capital Region Leadership Council will hold its monthly meeting on Thursday\, April 25\, 2024. A public agenda with a link for viewing will be posted in accordance with our core values prior to the meeting. \n  \n  \n\n      \n    \n  \n    \n      \n                  Event Materials\n                      \n    \n  \n  \n\n  \n                                        \n      \n            \n\n    \n          \n                  \n                          \n                \n\n\n\n\n\n\n\n\n\n\n\n\n              \n                      \n              \n              \n        Click the button below to view the recording!\n        \n      \n                      View the Recording
URL:https://www.weprospertogether.org/event/leadership-council-meeting-april-2024/
LOCATION:Zoom
CATEGORIES:Leadership Council
ATTACH;FMTTYPE=image/jpeg:https://www.weprospertogether.org/wp-content/uploads/2024/01/AdobeStock_506761683-scaled.jpeg
END:VEVENT
BEGIN:VEVENT
DTSTART;TZID=America/Los_Angeles:20240425T153000
DTEND;TZID=America/Los_Angeles:20240425T170000
DTSTAMP:20260423T200134
CREATED:20240227T002614Z
LAST-MODIFIED:20240227T015231Z
UID:1702-1714059000-1714064400@www.weprospertogether.org
SUMMARY:Nevada Subregional Committee | April 2024
DESCRIPTION:Join us for our monthly Nevada Subregional Committee meeting on Thursday\, April 25\, 2024 from 43:30 pm – 5pm. This meeting will be held in-person at the Nevada County Economic Resource Council’s Esterly Hall.    \n  \n\n      \n    \n  \n    \n      \n                  Event Materials\n                      \n    \n  \n  \n\n  \n                                        \n      \n            \n\n    \n          \n                  \n                          \n                \n\n\n\n\n\n\n\n\n\n\n\n\n              \n                      \n              \n              \n        Click the button below to view the recording!\n        \n      \n                      View the Recording
URL:https://www.weprospertogether.org/event/nevada-subregional-committee-april-2024/
LOCATION:Nevada County Economic Resource Council\, 336 Crown Point Circle\, Grass Valley\, California\, 95945\, United States
CATEGORIES:Committee Meetings
ATTACH;FMTTYPE=image/jpeg:https://www.weprospertogether.org/wp-content/uploads/2024/02/AdobeStock_468261318-Donner-summit-scaled.jpeg
END:VEVENT
END:VCALENDAR