BEGIN:VCALENDAR
VERSION:2.0
PRODID:-//We Prosper Together - ECPv6.15.20//NONSGML v1.0//EN
CALSCALE:GREGORIAN
METHOD:PUBLISH
X-WR-CALNAME:We Prosper Together
X-ORIGINAL-URL:https://www.weprospertogether.org
X-WR-CALDESC:Events for We Prosper Together
REFRESH-INTERVAL;VALUE=DURATION:PT1H
X-Robots-Tag:noindex
X-PUBLISHED-TTL:PT1H
BEGIN:VTIMEZONE
TZID:America/Los_Angeles
BEGIN:DAYLIGHT
TZOFFSETFROM:-0800
TZOFFSETTO:-0700
TZNAME:PDT
DTSTART:20240310T100000
END:DAYLIGHT
BEGIN:STANDARD
TZOFFSETFROM:-0700
TZOFFSETTO:-0800
TZNAME:PST
DTSTART:20241103T090000
END:STANDARD
BEGIN:DAYLIGHT
TZOFFSETFROM:-0800
TZOFFSETTO:-0700
TZNAME:PDT
DTSTART:20250309T100000
END:DAYLIGHT
BEGIN:STANDARD
TZOFFSETFROM:-0700
TZOFFSETTO:-0800
TZNAME:PST
DTSTART:20251102T090000
END:STANDARD
BEGIN:DAYLIGHT
TZOFFSETFROM:-0800
TZOFFSETTO:-0700
TZNAME:PDT
DTSTART:20260308T100000
END:DAYLIGHT
BEGIN:STANDARD
TZOFFSETFROM:-0700
TZOFFSETTO:-0800
TZNAME:PST
DTSTART:20261101T090000
END:STANDARD
END:VTIMEZONE
BEGIN:VEVENT
DTSTART;TZID=America/Los_Angeles:20250724T120000
DTEND;TZID=America/Los_Angeles:20250724T170000
DTSTAMP:20260423T190300
CREATED:20250522T200547Z
LAST-MODIFIED:20250807T192454Z
UID:2467-1753358400-1753376400@www.weprospertogether.org
SUMMARY:Leadership Council Meeting | July 24\, 2025
DESCRIPTION:On July 24th\, Valley Vision hosted a close-out celebration with the Leadership Council\, recognizing their valuable contributions to the We Prosper Together initiative. \nThe meeting featured a conversation between Stewart Knox\, Secretary of the California Labor & Workforce Development Agency\, and Evan Schmidt\, CEO of Valley Vision\, focusing on the statewide impact of the California Jobs First program and what we can envision for the future. \nThis meeting also consisted of a vote to approve the Second Round Catalyst portfolio\, followed by a project panel held at the Empress Tavern\, a venue space in downtown Sacramento developed in partnership with Alchemist Community Development Corporation. \nBelow are the meeting materials! \n  \n  \n\n      \n    \n  \n    \n      \n                  Event Materials\n                      \n    \n  \n  \n\n  \n                                        \n      \n            \n\n    \n          \n                  \n                          \n                \n\n\n\n\n\n\n\n\n\n\n\n\n              \n                      \n              \n              \n        Click the button below to view the recording!\n        \n      \n                      View the Recording
URL:https://www.weprospertogether.org/event/leadership-council-meeting-july-24-2025/
LOCATION:SACOG Board Room\, 1415 L St # 300\, Sacramento\, CA\, 95814\, United States
CATEGORIES:Leadership Council
END:VEVENT
END:VCALENDAR